BEGIN:VCALENDAR
PRODID:-//District of Kansas//NONSGML v1.0//EN
VERSION:2.0
CALSCALE:GREGORIAN
METHOD:PUBLISH
X-WR-CALNAME:District of Kansas
BEGIN:VEVENT
UID:3761@ksd.uscourts.gov
SUMMARY:CANCELLED***Naturalization Ceremony
LOCATION:Kansas City Courtroom 655, 180, 659
CLASS:PUBLIC
DESCRIPTION:See http://www.ksd.uscourts.gov/ksd_calendar/main/event/3761.
URL:http://www.ksd.uscourts.gov/ksd_calendar/main/event/3761
DTSTAMP:20210423T214849Z
DTSTART:20200424T140000Z
DTEND:20200424T170000Z
RRULE:FREQ=DAILY;UNTIL=20200424T170000Z
END:VEVENT
END:VCALENDAR
