BEGIN:VCALENDAR
PRODID:-//District of Kansas//NONSGML v1.0//EN
VERSION:2.0
CALSCALE:GREGORIAN
METHOD:PUBLISH
X-WR-CALNAME:District of Kansas
BEGIN:VEVENT
UID:3759@ksd.uscourts.gov
SUMMARY:Naturalization Ceremony
LOCATION:Kansas City Courtroom 655, 180, 659
CLASS:PUBLIC
DESCRIPTION:See http://www.ksd.uscourts.gov/ksd_calendar/main/event/3759.
URL:http://www.ksd.uscourts.gov/ksd_calendar/main/event/3759
DTSTAMP:20210423T214845Z
DTSTART:20200221T150000Z
DTEND:20200221T180000Z
RRULE:FREQ=DAILY;UNTIL=20200221T180000Z
END:VEVENT
END:VCALENDAR
