BEGIN:VCALENDAR
PRODID:-//District of Kansas//NONSGML v1.0//EN
VERSION:2.0
CALSCALE:GREGORIAN
METHOD:PUBLISH
X-WR-CALNAME:District of Kansas
BEGIN:VEVENT
UID:3648@ksd.uscourts.gov
SUMMARY:Federal Holiday:  Presidents' Day
LOCATION:Kansas City Topeka, Wichita
CLASS:PUBLIC
DESCRIPTION:See http://www.ksd.uscourts.gov/ksd_calendar/main/event/3648.
URL:http://www.ksd.uscourts.gov/ksd_calendar/main/event/3648
DTSTAMP:20210423T214843Z
DTSTART:20200217T140000Z
DTEND:20200217T230000Z
RRULE:FREQ=DAILY;UNTIL=20200217T230000Z
END:VEVENT
END:VCALENDAR
