BEGIN:VCALENDAR
PRODID:-//District of Kansas//NONSGML v1.0//EN
VERSION:2.0
CALSCALE:GREGORIAN
METHOD:PUBLISH
X-WR-CALNAME:District of Kansas
BEGIN:VEVENT
UID:3421@ksd.uscourts.gov
SUMMARY:Naturalization Ceremony Brown v. Board of Education Historic Site
LOCATION:Topeka 
CLASS:PUBLIC
DESCRIPTION:See http://www.ksd.uscourts.gov/ksd_calendar/main/event/3421.
URL:http://www.ksd.uscourts.gov/ksd_calendar/main/event/3421
DTSTAMP:20210423T214842Z
DTSTART:20200129T160000Z
DTEND:20200129T170000Z
RRULE:FREQ=DAILY;UNTIL=20200129T170000Z
END:VEVENT
END:VCALENDAR
