BEGIN:VCALENDAR
PRODID:-//District of Kansas//NONSGML v1.0//EN
VERSION:2.0
CALSCALE:GREGORIAN
METHOD:PUBLISH
X-WR-CALNAME:District of Kansas
BEGIN:VEVENT
UID:3298@ksd.uscourts.gov
SUMMARY:Ceremonial Swearing-In for Rep. Sharice Davids
LOCATION:Kansas City Courtroom 655
CLASS:PUBLIC
DESCRIPTION:See http://www.ksd.uscourts.gov/ksd_calendar/main/event/3298.
URL:http://www.ksd.uscourts.gov/ksd_calendar/main/event/3298
DTSTAMP:20210425T153750Z
DTSTART:20190222T193000Z
DTEND:20190222T220000Z
RRULE:FREQ=DAILY;UNTIL=20190222T220000Z
END:VEVENT
END:VCALENDAR
